BEGIN:VCALENDAR
VERSION:2.0
PRODID:-//InvisionCommunity Events 4.7.19//EN
METHOD:PUBLISH
CALSCALE:GREGORIAN
REFRESH-INTERVAL:PT15M
X-PUBLISHED-TTL:PT15M
X-WR-CALNAME:Календарь сообщества
NAME:Календарь сообщества
BEGIN:VTIMEZONE
TZID:Europe/London
TZURL:http://tzurl.org/zoneinfo/Europe/London
X-LIC-LOCATION:Europe/London
BEGIN:DAYLIGHT
TZOFFSETFROM:+0000
TZOFFSETTO:+0100
TZNAME:BST
DTSTART:20210328T020000Z
RRULE:FREQ=YEARLY;BYMONTH=3;BYDAY=-1SU
END:DAYLIGHT
BEGIN:STANDARD
TZOFFSETFROM:+0100
TZOFFSETTO:+0000
TZNAME:GMT
DTSTART:20211031T020000Z
RRULE:FREQ=YEARLY;BYMONTH=10;BYDAY=-1SU
END:STANDARD
END:VTIMEZONE
BEGIN:VEVENT
SUMMARY:Не пьянки ради\, а дружбы для!
DTSTAMP:20210615T123727Z
SEQUENCE:0
UID:187-1-cfcc7828d202ea996b0750605b84612f@wcat1.ru
ORGANIZER;CN="kaTok43rus":noreply@wcat1.ru
DESCRIPTION:\n	Итак\, народ!\n\n
	\n\n	Поступило 
	предложение со
	браться в эту 
	тяжелую карант
	инную годину на\, быть 
	может\, судьбоносное для нас 
	событие!\n\n\n\n	На пьянку 
	короче  \n\n\n\n	В ста
	ндартное место: ир
	ландский паб на кузнецко
	м мосту\, ул. Рождественка\, 
	6/9/20с1\, вход со двора\, от метр
	о 20 метров.\n\n\n\n	В
	се москвичи\, подм
	осквичи и проезжающ
	ие мимо приглашаются.\n\n\
	n\n	Перечислю некоторых\, но явно не всех: \
	n\n\n\n	@makcumka82 @Nordmar_Hunter @ru_nn @phaggi @Mojluchshe @NikolaSU33
	 @K03JIRN @kaTok43rus\n\n\n\n	Кого не 
	перечислил но 
	кто рядом и же
	лание имеет п
	рисоединиться - не стесняем
	ся\, отписываемся в тему и подгребаем\n\n
DTSTART:20210619T110000Z
END:VEVENT
END:VCALENDAR
